BEGIN:VCALENDAR
VERSION:2.0
PRODID:Events Booking
BEGIN:VEVENT
UID:69e793f5d13e6
SUMMARY:5 Strategies of Relationship-Centered Leadership
DESCRIPTION:What is relationship-centered leadership? Building meaningful a
 nd productive relationships to raise performance and develop your team mem
 bers.
DTSTART:20250212T233000Z
DTEND:20250213T003000Z
DTSTAMP:20250123T144517Z
ORGANIZER;CN=PMI Buffalo Events Team:MAILTO:no-reply@pmibuffalo.org
END:VEVENT
END:VCALENDAR