BEGIN:VCALENDAR
VERSION:2.0
PRODID:Events Booking
BEGIN:VEVENT
UID:69e79565611f8
SUMMARY:Agile in Practice:  A collaboration with Buffalo Women in Agile
DESCRIPTION:
 BIO:
 Chauntisse Poindexter brings deep\, hands‑on expert
 ise in scaling agility\, shaped by years of leading complex technology del
 ivery in technology leadership at organizations such as FedEx and M&amp\;T
  Bank. Known for her clear\, no‑nonsense perspectives on agile\, she is 
 a vocal advocate for practice\, outcomes-driven agility and value-focused 
 flow.
 SUMMARY:
 In this session\, Chauntisse breaks down why many organ
 izations struggle to achieve true adaptability.&nbsp\; Drawing from her fi
 eld experience\, she illustrates how agility is fundamentally a systems di
 scipline focused on flow\, decision latency\, and reducing variability –
  not just a set of ceremonies or tools. The talk will also highlight the r
 ole of women in agility and sharing her experiences as a women leader that
  gave her successful outcomes.&nbsp\;
 The event will take place in Innov
 ation Conference Room A and B.&nbsp\;&nbsp\;
 &nbsp\;
LOCATION:1 Robert Rich Way\, Buffalo\, NY 14213\, USA
DTSTART:20260226T223000Z
DTEND:20260227T010000Z
DTSTAMP:20260206T195446Z
ORGANIZER;CN=PMI Buffalo Events Team:MAILTO:no-reply@pmibuffalo.org
GEO:42.915731;-78.899505
X-APPLE-STRUCTURED-LOCATION;VALUE=URI;X-ADDRESS=1 Robert Rich Way\, Buffalo
 \, NY 14213\, USA;X-APPLE-RADIUS=72;X-TITLE=Rich Products:42.915731;-78.89
 9505
END:VEVENT
END:VCALENDAR