BEGIN:VCALENDAR
VERSION:2.0
PRODID:Events Booking
BEGIN:VEVENT
UID:69e7967eb4a2f
SUMMARY:Embracing an AI-First Approach for Accelerated Growth in Project Ma
 nagement
DESCRIPTION:Join us to discuss the role of artificial intelligence in proje
 ct management\, highlighting its potential to enhance productivity and fac
 ilitate informed decision-making.
DTSTART:20250226T170000Z
DTEND:20250226T180000Z
DTSTAMP:20250123T145131Z
ORGANIZER;CN=PMI Buffalo Events Team:MAILTO:no-reply@pmibuffalo.org
END:VEVENT
END:VCALENDAR