BEGIN:VCALENDAR
VERSION:2.0
PRODID:Events Booking
BEGIN:VEVENT
UID:69e796aca106f
SUMMARY:Fall 2025 Professional Development Day
DESCRIPTION:Join us for an exciting day of networking and earning PDUs!&nbs
 p\; The day will start with keynote speaker Spencer Horn presenting \"Stre
 ngthening Your Strengths\" followed by Nirmayee Dighe discussing how AI is
  reshaping analytics and tech jobs.&nbsp\; The afternoon will include a sp
 eaker panel discussing the difficulties of job hunting.&nbsp\; Our final s
 peaker\, Jeff Manhardt\, will give an enthralling AI presention on how to 
 leverage mental models to empower you to build highly effective agentic au
 tomation that will anticipate needs and execute complex tasks autonomously
 .
 Breakfast and Networking - 1.0 Business Acumen
 Stronger Than Your St
 rengths: The Hidden Key to Sustainable Project Leadership - 2.0 Power Skil
 ls
 Is AI Replacing Tech Jobs? - 1.25 Ways of Working
 Lunch and Network
 ing with Recruiters - 0.75 Business Acumen
 Issues Faced by PM's in Today
 's Job Market - 1.0 Business Acumen
 Citizen Intelligence – Using Menta
 l Models for Agentic Automation - 2.0 Ways of Working
 &nbsp\;
 Non-memb
 ers $255
 Members $235 (a $20 discount will be applied once you log in)

  Students $175 reach out to vp_professional_development@pmibuffalo.org&nbs
 p\;for coupon code
 &nbsp\;
 
 
 
 
 
 
 
 
 Spencer Horn
 Nirm
 ayee (Nemo) Dighe
 Jeff Mandhardt
 
 
 
 &nbsp\;
 &nbsp\;
LOCATION:2669 Union Rd\, Buffalo NY 14227
DTSTART:20251118T130000Z
DTEND:20251118T210000Z
DTSTAMP:20251006T043755Z
ORGANIZER;CN=PMI Buffalo Events Team:MAILTO:no-reply@pmibuffalo.org
GEO:42.885188;-78.753618
X-APPLE-STRUCTURED-LOCATION;VALUE=URI;X-ADDRESS=2669 Union Rd\, Buffalo NY 
 14227;X-APPLE-RADIUS=72;X-TITLE=Creekside Banquet & Picnic Grove:42.885188
 ;-78.753618
END:VEVENT
END:VCALENDAR