BEGIN:VCALENDAR
VERSION:2.0
PRODID:Events Booking
BEGIN:VEVENT
UID:69e77e100d67b
SUMMARY:How to Setup a PMO - Best Practices
DESCRIPTION:Join us for a virtual lunch with our very own Michael Fiandalo 
 to discuss best practices setting up a PMO.&nbsp\;
 This presentation out
 lines an approach to building and evolving a Project Management Office by 
 repositioning the PMO from a delivery function to a&nbsp\;strategic enable
 r of enterprise value. It emphasizes that effective PMOs are intentionally
  designed around organizational strategy\, culture\, and decision‑making
  needs and not imposed as one‑size‑fits‑all structures. Leveraging t
 he&nbsp\;PMI PMO Global Alliance Value‑Ring (Flywheel) framework\, he il
 lustrates how PMOs can mature through continuous cycles of strategic align
 ment\, service design\, execution\, measurement\, and value realization. K
 ey themes include establishing the ePMO as the bridge between strategy and
  execution\, prioritizing services that matter most to leadership\, measur
 ing outcomes rather than activity\, and building a resilient\, customer‑
 centric PMO that adapts over time while enabling data‑driven executive d
 ecision‑making.
 Michael V. Fiandalo\, PhD\, MBA\, PMP\, PfMP\, PMI‑P
 MOCP\, PMO‑BP&nbsp\;is the Associate Vice President of the Enterprise Pr
 oject Management Office (ePMO) at Appalachian Regional Healthcare (ARH). H
 e leads an ePMO that manages the strategic portfolio\, ensuring strategic 
 alignment\, and value realization. His leadership approach is grounded in 
 positioning the ePMO as a strategic partner that bridges organizational st
 rategy and execution in direct support of ARH’s mission&nbsp\;to improve
  health and promote the well‑being of the people in central Appalachia i
 n partnership with ARH communities. He is an active contributor to the pro
 ject management profession\; he served as a 2025 PMI PMO Global Alliance J
 udge and served in director roles within the PMI Buffalo and Rochester Cha
 pters. His work emphasizes the design of modern\, patient care‑focused e
 PMO that continuously adapt\, leverages data‑driven insights\, and enabl
 es informed executive decision‑making in support of ARH's strategy and m
 ission.
DTSTART:20260508T160000Z
DTEND:20260508T170000Z
DTSTAMP:20260330T194948Z
ORGANIZER;CN=PMI Buffalo Events Team:MAILTO:no-reply@pmibuffalo.org
END:VEVENT
END:VCALENDAR