BEGIN:VCALENDAR
VERSION:2.0
PRODID:Events Booking
BEGIN:VEVENT
UID:69e7956682796
SUMMARY:January Dinner Meeting
DESCRIPTION:Join us for an engaging talk with Pauline McKeown on “The PMI
  MORE Framework – Reframing Project Management Strategy for Success.” 
 Pauline will break down the MORE Framework in plain terms and show how it 
 helps leaders and project teams make smarter choices\, focus on what matte
 rs\, and deliver results with less noise and more clarity.
LOCATION:1770 Hertel Ave\, Buffalo\, NY 14216\, USA
DTSTART:20260129T230000Z
DTEND:20260130T010000Z
DTSTAMP:20260112T054303Z
ORGANIZER;CN=PMI Buffalo Events Team:MAILTO:no-reply@pmibuffalo.org
GEO:42.94788;-78.842756
X-APPLE-STRUCTURED-LOCATION;VALUE=URI;X-ADDRESS=1770 Hertel Ave\, Buffalo\,
  NY 14216\, USA;X-APPLE-RADIUS=72;X-TITLE=Dash's Market:42.94788;-78.84275
 6
END:VEVENT
END:VCALENDAR