BEGIN:VCALENDAR
VERSION:2.0
PRODID:Events Booking
BEGIN:VEVENT
UID:69e77e0fbd2c1
SUMMARY:OLV Basilica Tour
DESCRIPTION:Save the Date!
 Join us for a tour of the OLV Basilica in Lack
 awanna and learn about the restoration process and challenges faced.&nbsp\
 ; More to come!&nbsp\;
DTSTART:20260611T213000Z
DTEND:20260612T000000Z
DTSTAMP:20260330T195946Z
ORGANIZER;CN=PMI Buffalo Events Team:MAILTO:no-reply@pmibuffalo.org
END:VEVENT
END:VCALENDAR