BEGIN:VCALENDAR
VERSION:2.0
PRODID:Events Booking
BEGIN:VEVENT
UID:69e7963aa279f
SUMMARY:Q2 2025 New Member Orientation
DESCRIPTION:Join Us for the PMI Buffalo New Member Orientation! Welcome to 
 the PMI Buffalo Chapter! Whether you're a new member or simply looking to 
 get more involved\, this orientation is your opportunity to learn about ch
 apter benefits\, connect with fellow professionals\, and explore how you c
 an make the most of your membership.
 We look forward to meeting you and 
 helping you get started on your PMI Buffalo journey.
 You do not need to 
 register!
DTSTART:20250627T160000Z
DTEND:20250627T163000Z
DTSTAMP:20250612T202716Z
ORGANIZER;CN=PMI Buffalo Events Team:MAILTO:no-reply@pmibuffalo.org
END:VEVENT
END:VCALENDAR