BEGIN:VCALENDAR
VERSION:2.0
PRODID:Events Booking
BEGIN:VEVENT
UID:69e780afe051d
SUMMARY:Spring Professional Development Day (virtual)
DESCRIPTION:Save the Date!
 PMI Buffalo will be having a virtual PDD in co
 njunction with David Barrett from Project Bites.&nbsp\; Earn up to 15 PDU'
 s at this all-day virtual event.&nbsp\;&nbsp\;
 More info to come!
DTSTART:20260616T130000Z
DTEND:20260616T210000Z
DTSTAMP:20260330T200709Z
ORGANIZER;CN=PMI Buffalo Events Team:MAILTO:no-reply@pmibuffalo.org
END:VEVENT
END:VCALENDAR