BEGIN:VCALENDAR
VERSION:2.0
PRODID:Events Booking
BEGIN:VEVENT
UID:69e793e98bb7e
SUMMARY:Tools... And More Tools!
DESCRIPTION:Are you confused by all the project management tools available?
 &nbsp\; This presentation by&nbsp\;Jeff Manhardt&nbsp\;explores the transf
 ormation of project management through innovative tools.
DTSTART:20250520T213000Z
DTEND:20250521T000000Z
DTSTAMP:20250514T094200Z
ORGANIZER;CN=PMI Buffalo Events Team:MAILTO:no-reply@pmibuffalo.org
END:VEVENT
END:VCALENDAR