BEGIN:VCALENDAR
VERSION:2.0
PRODID:Events Booking
BEGIN:VEVENT
UID:69e7968d7c0aa
SUMMARY:Unlocking the Power of PMI Certifications
DESCRIPTION:Are you looking to advance your project management career?&nbsp
 \;Join us for an insightful Virtual Lunch session presented by PMI Buffalo
 's very own Pauline McKeown\,&nbsp\;VP of Certification Training\, where w
 e'll dive into the key PMI (Project Management Institute) certifications a
 nd the requirements to earn them. Whether you're aiming for the PMP® (Pro
 ject Management Professional)\, CAPM® (Certified Associate in Project Man
 agement)\, or other PMI credentials\, this session will guide you through 
 the steps to certification\, eligibility criteria\, and training opportuni
 ties&nbsp\;the Buffalo Chapter offers to ensure your success.
DTSTART:20250116T170000Z
DTEND:20250116T180000Z
DTSTAMP:20250123T142847Z
ORGANIZER;CN=PMI Buffalo Events Team:MAILTO:no-reply@pmibuffalo.org
END:VEVENT
END:VCALENDAR